BEGIN:VCALENDAR
VERSION:2.0
PRODID:-//YAMIT AND THE VINYL BLVD - ECPv6.15.17//NONSGML v1.0//EN
CALSCALE:GREGORIAN
METHOD:PUBLISH
X-WR-CALNAME:YAMIT AND THE VINYL BLVD
X-ORIGINAL-URL:https://www.vinylblvd.com
X-WR-CALDESC:Events for YAMIT AND THE VINYL BLVD
REFRESH-INTERVAL;VALUE=DURATION:PT1H
X-Robots-Tag:noindex
X-PUBLISHED-TTL:PT1H
BEGIN:VTIMEZONE
TZID:UTC
BEGIN:STANDARD
TZOFFSETFROM:+0000
TZOFFSETTO:+0000
TZNAME:UTC
DTSTART:20220101T000000
END:STANDARD
END:VTIMEZONE
BEGIN:VEVENT
DTSTART;TZID=UTC:20230903T113000
DTEND;TZID=UTC:20230903T160000
DTSTAMP:20260421T192949
CREATED:20230829T010711Z
LAST-MODIFIED:20230829T010711Z
UID:3583-1693740600-1693756800@www.vinylblvd.com
SUMMARY:The Setai Hotel JAZZ BRUNCH
DESCRIPTION:VINYL BLVD QUARTET
URL:https://www.vinylblvd.com/event/the-setai-hotel-jazz-brunch-284/
LOCATION:The Setai Hotel\, 2001 Collins Avenue\, Miami Beach\, FL\, 33139\, United States
END:VEVENT
BEGIN:VEVENT
DTSTART;TZID=UTC:20230903T180000
DTEND;TZID=UTC:20230903T193000
DTSTAMP:20260421T192949
CREATED:20230829T011717Z
LAST-MODIFIED:20230829T011717Z
UID:3595-1693764000-1693769400@www.vinylblvd.com
SUMMARY:OCEAN DRIVE PROMENADE MUSIC SERIES
DESCRIPTION:VINYL BLVD QUARTET
URL:https://www.vinylblvd.com/event/ocean-drive-promenade-music-series/
LOCATION:LUMMUS PARK ON OCEAN DRIVE\, 1130 Ocean Drive\, Miami Beach\, FL\, 33139\, United States
END:VEVENT
END:VCALENDAR