BEGIN:VCALENDAR
VERSION:2.0
PRODID:-//YAMIT AND THE VINYL BLVD - ECPv6.15.17//NONSGML v1.0//EN
CALSCALE:GREGORIAN
METHOD:PUBLISH
X-WR-CALNAME:YAMIT AND THE VINYL BLVD
X-ORIGINAL-URL:https://www.vinylblvd.com
X-WR-CALDESC:Events for YAMIT AND THE VINYL BLVD
REFRESH-INTERVAL;VALUE=DURATION:PT1H
X-Robots-Tag:noindex
X-PUBLISHED-TTL:PT1H
BEGIN:VTIMEZONE
TZID:UTC
BEGIN:STANDARD
TZOFFSETFROM:+0000
TZOFFSETTO:+0000
TZNAME:UTC
DTSTART:20200101T000000
END:STANDARD
END:VTIMEZONE
BEGIN:VEVENT
DTSTART;TZID=UTC:20220210T183000
DTEND;TZID=UTC:20220210T220000
DTSTAMP:20260421T053122
CREATED:20220205T165031Z
LAST-MODIFIED:20220205T165031Z
UID:2978-1644517800-1644530400@www.vinylblvd.com
SUMMARY:The Boca Raton CLUB ROOM
DESCRIPTION:VINYL BLVD DUO
URL:https://www.vinylblvd.com/event/the-boca-raton-club-room-4/
LOCATION:The Boca Raton\, 501 E Camino Real\, Boca Raton\, 33432\, United States
END:VEVENT
BEGIN:VEVENT
DTSTART;TZID=UTC:20220206T113000
DTEND;TZID=UTC:20220206T160000
DTSTAMP:20260421T053122
CREATED:20220205T164245Z
LAST-MODIFIED:20220205T164323Z
UID:2969-1644147000-1644163200@www.vinylblvd.com
SUMMARY:The Setai Hotel JAZZ BRUNCH
DESCRIPTION:VINYL BLVD QUARTET
URL:https://www.vinylblvd.com/event/the-setai-hotel-jazz-brunch-213/
LOCATION:The Setai Hotel\, 2001 Collins Avenue\, Miami Beach\, FL\, 33139\, United States
END:VEVENT
BEGIN:VEVENT
DTSTART;VALUE=DATE:20220205
DTEND;VALUE=DATE:20220207
DTSTAMP:20260421T053122
CREATED:20220205T165240Z
LAST-MODIFIED:20220205T165240Z
UID:2984-1644030000-1644116399@www.vinylblvd.com
SUMMARY:PRIVATE EVENT
DESCRIPTION:
URL:https://www.vinylblvd.com/event/private-event-103/
LOCATION:FL
END:VEVENT
BEGIN:VEVENT
DTSTART;TZID=UTC:20220203T193000
DTEND;TZID=UTC:20220203T220000
DTSTAMP:20260421T053122
CREATED:20220205T163846Z
LAST-MODIFIED:20220205T163846Z
UID:2967-1643916600-1643925600@www.vinylblvd.com
SUMMARY:Soya & Pomodoro
DESCRIPTION:VINYL BLVD DUO
URL:https://www.vinylblvd.com/event/soya-pomodoro-214/
LOCATION:Soya & Pomodoro\, 120 NE 1st Street\, Miami\, FL\, 33132\, United States
END:VEVENT
BEGIN:VEVENT
DTSTART;TZID=UTC:20220130T113000
DTEND;TZID=UTC:20220130T160000
DTSTAMP:20260421T053122
CREATED:20220104T162323Z
LAST-MODIFIED:20220104T162323Z
UID:2954-1643542200-1643558400@www.vinylblvd.com
SUMMARY:The Setai Hotel JAZZ BRUNCH
DESCRIPTION:VINYL BLVD QUARTET
URL:https://www.vinylblvd.com/event/the-setai-hotel-jazz-brunch-211/
LOCATION:The Setai Hotel\, 2001 Collins Avenue\, Miami Beach\, FL\, 33139\, United States
END:VEVENT
BEGIN:VEVENT
DTSTART;TZID=UTC:20220129T183000
DTEND;TZID=UTC:20220129T220000
DTSTAMP:20260421T053122
CREATED:20220104T162858Z
LAST-MODIFIED:20220104T162858Z
UID:2960-1643481000-1643493600@www.vinylblvd.com
SUMMARY:The Boca Raton CLUB ROOM
DESCRIPTION:VINYL BLVD DUO
URL:https://www.vinylblvd.com/event/the-boca-raton-club-room-3/
LOCATION:The Boca Raton\, 501 E Camino Real\, Boca Raton\, 33432\, United States
END:VEVENT
BEGIN:VEVENT
DTSTART;TZID=UTC:20220123T113000
DTEND;TZID=UTC:20220123T160000
DTSTAMP:20260421T053122
CREATED:20220104T162416Z
LAST-MODIFIED:20220104T162416Z
UID:2956-1642937400-1642953600@www.vinylblvd.com
SUMMARY:The Setai Hotel JAZZ BRUNCH
DESCRIPTION:VINYL BLVD QUARTET
URL:https://www.vinylblvd.com/event/the-setai-hotel-jazz-brunch-212/
LOCATION:The Setai Hotel\, 2001 Collins Avenue\, Miami Beach\, FL\, 33139\, United States
END:VEVENT
BEGIN:VEVENT
DTSTART;TZID=UTC:20220120T193000
DTEND;TZID=UTC:20220120T220000
DTSTAMP:20260421T053122
CREATED:20220104T163130Z
LAST-MODIFIED:20220104T163130Z
UID:2964-1642707000-1642716000@www.vinylblvd.com
SUMMARY:Soya & Pomodoro
DESCRIPTION:VINYL BLVD DUO
URL:https://www.vinylblvd.com/event/soya-pomodoro-213/
LOCATION:Soya & Pomodoro\, 120 NE 1st Street\, Miami\, FL\, 33132\, United States
END:VEVENT
BEGIN:VEVENT
DTSTART;TZID=UTC:20220116T113000
DTEND;TZID=UTC:20220116T160000
DTSTAMP:20260421T053122
CREATED:20220104T162052Z
LAST-MODIFIED:20220104T162121Z
UID:2952-1642332600-1642348800@www.vinylblvd.com
SUMMARY:The Setai Hotel JAZZ BRUNCH
DESCRIPTION:VINYL BLVD QUARTET
URL:https://www.vinylblvd.com/event/the-setai-hotel-jazz-brunch-210/
LOCATION:The Setai Hotel\, 2001 Collins Avenue\, Miami Beach\, FL\, 33139\, United States
END:VEVENT
BEGIN:VEVENT
DTSTART;TZID=UTC:20220109T113000
DTEND;TZID=UTC:20220109T160000
DTSTAMP:20260421T053122
CREATED:20220104T161957Z
LAST-MODIFIED:20220104T161957Z
UID:2950-1641727800-1641744000@www.vinylblvd.com
SUMMARY:The Setai Hotel JAZZ BRUNCH
DESCRIPTION:VINYL BLVD QUARTET
URL:https://www.vinylblvd.com/event/the-setai-hotel-jazz-brunch-209/
LOCATION:The Setai Hotel\, 2001 Collins Avenue\, Miami Beach\, FL\, 33139\, United States
END:VEVENT
BEGIN:VEVENT
DTSTART;TZID=UTC:20220108T183000
DTEND;TZID=UTC:20220108T220000
DTSTAMP:20260421T053122
CREATED:20220104T162745Z
LAST-MODIFIED:20220104T162811Z
UID:2958-1641666600-1641679200@www.vinylblvd.com
SUMMARY:The Boca Raton CLUB ROOM
DESCRIPTION:VINYL BLVD DUO
URL:https://www.vinylblvd.com/event/the-boca-raton-club-room-2/
LOCATION:The Boca Raton\, 501 E Camino Real\, Boca Raton\, 33432\, United States
END:VEVENT
BEGIN:VEVENT
DTSTART;TZID=UTC:20220106T073000
DTEND;TZID=UTC:20220106T220000
DTSTAMP:20260421T053122
CREATED:20220104T163012Z
LAST-MODIFIED:20220104T163012Z
UID:2962-1641454200-1641506400@www.vinylblvd.com
SUMMARY:Soya & Pomodoro
DESCRIPTION:VINYL BLVD DUO
URL:https://www.vinylblvd.com/event/soya-pomodoro-210/
LOCATION:Soya & Pomodoro\, 120 NE 1st Street\, Miami\, FL\, 33132\, United States
END:VEVENT
BEGIN:VEVENT
DTSTART;TZID=UTC:20220102T113000
DTEND;TZID=UTC:20220102T160000
DTSTAMP:20260421T053122
CREATED:20220104T161911Z
LAST-MODIFIED:20220104T161911Z
UID:2948-1641123000-1641139200@www.vinylblvd.com
SUMMARY:The Setai Hotel JAZZ BRUNCH
DESCRIPTION:VINYL BLVD QUARTET
URL:https://www.vinylblvd.com/event/the-setai-hotel-jazz-brunch-208/
LOCATION:The Setai Hotel\, 2001 Collins Avenue\, Miami Beach\, FL\, 33139\, United States
END:VEVENT
BEGIN:VEVENT
DTSTART;TZID=UTC:20220101T113000
DTEND;TZID=UTC:20220101T160000
DTSTAMP:20260421T053122
CREATED:20220104T161733Z
LAST-MODIFIED:20220104T161746Z
UID:2945-1641036600-1641052800@www.vinylblvd.com
SUMMARY:The Setai Hotel NEW YEAR'S DAY BRUNCH
DESCRIPTION:VINYL BLVD QUARTET
URL:https://www.vinylblvd.com/event/the-setai-hotel-new-years-day-brunch/
LOCATION:The Setai Hotel\, 2001 Collins Avenue\, Miami Beach\, FL\, 33139\, United States
END:VEVENT
BEGIN:VEVENT
DTSTART;VALUE=DATE:20211231
DTEND;VALUE=DATE:20220102
DTSTAMP:20260421T053122
CREATED:20220104T161200Z
LAST-MODIFIED:20220104T161200Z
UID:2935-1640919600-1641005999@www.vinylblvd.com
SUMMARY:PRIVATE EVENT
DESCRIPTION:
URL:https://www.vinylblvd.com/event/private-event-97/
LOCATION:FL
END:VEVENT
BEGIN:VEVENT
DTSTART;TZID=UTC:20211226T113000
DTEND;TZID=UTC:20211226T160000
DTSTAMP:20260421T053122
CREATED:20211109T132400Z
LAST-MODIFIED:20211109T135819Z
UID:2919-1640518200-1640534400@www.vinylblvd.com
SUMMARY:The Setai Hotel JAZZ BRUNCH
DESCRIPTION:VINYL BLVD QUARTET
URL:https://www.vinylblvd.com/event/the-setai-hotel-jazz-brunch-207/
LOCATION:The Setai Hotel\, 2001 Collins Avenue\, Miami Beach\, FL\, 33139\, United States
END:VEVENT
BEGIN:VEVENT
DTSTART;TZID=UTC:20211225T113000
DTEND;TZID=UTC:20211225T160000
DTSTAMP:20260421T053122
CREATED:20211109T135924Z
LAST-MODIFIED:20211109T135924Z
UID:2921-1640431800-1640448000@www.vinylblvd.com
SUMMARY:The Setai Hotel CHRISTMAS JAZZ BRUNCH
DESCRIPTION:VINYL BLVD QUARTET
URL:https://www.vinylblvd.com/event/the-setai-hotel-christmas-jazz-brunch-2/
LOCATION:The Setai Hotel\, 2001 Collins Avenue\, Miami Beach\, FL\, 33139\, United States
END:VEVENT
BEGIN:VEVENT
DTSTART;TZID=UTC:20211223T193000
DTEND;TZID=UTC:20211223T220000
DTSTAMP:20260421T053122
CREATED:20211109T140129Z
LAST-MODIFIED:20211109T140129Z
UID:2925-1640287800-1640296800@www.vinylblvd.com
SUMMARY:Soya & Pomodoro
DESCRIPTION:VINYL BLVD DUO
URL:https://www.vinylblvd.com/event/soya-pomodoro-212/
LOCATION:Soya & Pomodoro\, 120 NE 1st Street\, Miami\, FL\, 33132\, United States
END:VEVENT
BEGIN:VEVENT
DTSTART;VALUE=DATE:20211222
DTEND;VALUE=DATE:20211224
DTSTAMP:20260421T053122
CREATED:20220104T161259Z
LAST-MODIFIED:20220104T161259Z
UID:2937-1640142000-1640228399@www.vinylblvd.com
SUMMARY:PRIVATE EVENT
DESCRIPTION:
URL:https://www.vinylblvd.com/event/private-event-98/
LOCATION:FL
END:VEVENT
BEGIN:VEVENT
DTSTART;TZID=UTC:20211219T113000
DTEND;TZID=UTC:20211219T160000
DTSTAMP:20260421T053122
CREATED:20211109T132305Z
LAST-MODIFIED:20211109T132305Z
UID:2917-1639913400-1639929600@www.vinylblvd.com
SUMMARY:The Setai Hotel JAZZ BRUNCH
DESCRIPTION:VINYL BLVD QUARTET
URL:https://www.vinylblvd.com/event/the-setai-hotel-jazz-brunch-206/
LOCATION:The Setai Hotel\, 2001 Collins Avenue\, Miami Beach\, FL\, 33139\, United States
END:VEVENT
BEGIN:VEVENT
DTSTART;VALUE=DATE:20211218
DTEND;VALUE=DATE:20211220
DTSTAMP:20260421T053122
CREATED:20220104T161352Z
LAST-MODIFIED:20220104T161352Z
UID:2939-1639796400-1639882799@www.vinylblvd.com
SUMMARY:PRIVATE EVENT
DESCRIPTION:
URL:https://www.vinylblvd.com/event/private-event-99/
LOCATION:FL
END:VEVENT
BEGIN:VEVENT
DTSTART;VALUE=DATE:20211217
DTEND;VALUE=DATE:20211219
DTSTAMP:20260421T053122
CREATED:20220104T161524Z
LAST-MODIFIED:20220104T161524Z
UID:2943-1639710000-1639796399@www.vinylblvd.com
SUMMARY:PRIVATE EVENT
DESCRIPTION:
URL:https://www.vinylblvd.com/event/private-event-101/
LOCATION:FL
END:VEVENT
BEGIN:VEVENT
DTSTART;TZID=UTC:20211212T113000
DTEND;TZID=UTC:20211212T160000
DTSTAMP:20260421T053122
CREATED:20211109T132218Z
LAST-MODIFIED:20211109T132218Z
UID:2915-1639308600-1639324800@www.vinylblvd.com
SUMMARY:The Setai Hotel JAZZ BRUNCH
DESCRIPTION:VINYL BLVD QUARTET
URL:https://www.vinylblvd.com/event/the-setai-hotel-jazz-brunch-205/
LOCATION:The Setai Hotel\, 2001 Collins Avenue\, Miami Beach\, FL\, 33139\, United States
END:VEVENT
BEGIN:VEVENT
DTSTART;VALUE=DATE:20211211
DTEND;VALUE=DATE:20211213
DTSTAMP:20260421T053122
CREATED:20220104T161418Z
LAST-MODIFIED:20220104T161418Z
UID:2941-1639191600-1639277999@www.vinylblvd.com
SUMMARY:PRIVATE EVENT
DESCRIPTION:
URL:https://www.vinylblvd.com/event/private-event-100/
LOCATION:FL
END:VEVENT
BEGIN:VEVENT
DTSTART;TZID=UTC:20211209T193000
DTEND;TZID=UTC:20211209T220000
DTSTAMP:20260421T053122
CREATED:20211109T140041Z
LAST-MODIFIED:20211109T140041Z
UID:2923-1639078200-1639087200@www.vinylblvd.com
SUMMARY:Soya & Pomodoro
DESCRIPTION:VINYL BLVD DUO
URL:https://www.vinylblvd.com/event/soya-pomodoro-211/
LOCATION:Soya & Pomodoro\, 120 NE 1st Street\, Miami\, FL\, 33132\, United States
END:VEVENT
BEGIN:VEVENT
DTSTART;TZID=UTC:20211205T113000
DTEND;TZID=UTC:20211205T160000
DTSTAMP:20260421T053122
CREATED:20211109T132121Z
LAST-MODIFIED:20211109T132121Z
UID:2913-1638703800-1638720000@www.vinylblvd.com
SUMMARY:The Setai Hotel JAZZ BRUNCH
DESCRIPTION:VINYL BLVD QUARTET
URL:https://www.vinylblvd.com/event/the-setai-hotel-jazz-brunch-204/
LOCATION:The Setai Hotel\, 2001 Collins Avenue\, Miami Beach\, FL\, 33139\, United States
END:VEVENT
BEGIN:VEVENT
DTSTART;TZID=UTC:20211204T183000
DTEND;TZID=UTC:20211204T220000
DTSTAMP:20260421T053122
CREATED:20211109T140640Z
LAST-MODIFIED:20211109T140748Z
UID:2931-1638642600-1638655200@www.vinylblvd.com
SUMMARY:The Boca Raton CLUB ROOM
DESCRIPTION:VINYL BLVD DUO
URL:https://www.vinylblvd.com/event/the-boca-raton/
LOCATION:The Boca Raton\, 501 E Camino Real\, Boca Raton\, 33432\, United States
END:VEVENT
BEGIN:VEVENT
DTSTART;TZID=UTC:20211128T103000
DTEND;TZID=UTC:20211128T160000
DTSTAMP:20260421T053122
CREATED:20211026T143034Z
LAST-MODIFIED:20211026T143034Z
UID:2885-1638095400-1638115200@www.vinylblvd.com
SUMMARY:The Setai Hotel JAZZ BRUNCH
DESCRIPTION:VINYL BLVD QUARTET
URL:https://www.vinylblvd.com/event/the-setai-hotel-jazz-brunch-202/
LOCATION:The Setai Hotel\, 2001 Collins Avenue\, Miami Beach\, FL\, 33139\, United States
END:VEVENT
BEGIN:VEVENT
DTSTART;TZID=UTC:20211125T103000
DTEND;TZID=UTC:20211125T160000
DTSTAMP:20260421T053122
CREATED:20211026T144427Z
LAST-MODIFIED:20211026T144427Z
UID:2903-1637836200-1637856000@www.vinylblvd.com
SUMMARY:The Setai Hotel THANKSGIVING JAZZ BRUNCH
DESCRIPTION:VINYL BLVD QUARTET
URL:https://www.vinylblvd.com/event/the-setai-hotel-thanksgiving-jazz-brunch-3/
LOCATION:The Setai Hotel\, 2001 Collins Avenue\, Miami Beach\, FL\, 33139\, United States
END:VEVENT
BEGIN:VEVENT
DTSTART;TZID=UTC:20211121T103000
DTEND;TZID=UTC:20211121T160000
DTSTAMP:20260421T053122
CREATED:20211026T143131Z
LAST-MODIFIED:20211026T143212Z
UID:2887-1637490600-1637510400@www.vinylblvd.com
SUMMARY:The Setai Hotel JAZZ BRUNCH
DESCRIPTION:VINYL BLVD QUARTET
URL:https://www.vinylblvd.com/event/the-setai-hotel-jazz-brunch-203/
LOCATION:The Setai Hotel\, 2001 Collins Avenue\, Miami Beach\, FL\, 33139\, United States
END:VEVENT
END:VCALENDAR