BEGIN:VCALENDAR
VERSION:2.0
PRODID:-//YAMIT AND THE VINYL BLVD - ECPv6.15.17//NONSGML v1.0//EN
CALSCALE:GREGORIAN
METHOD:PUBLISH
X-ORIGINAL-URL:https://www.vinylblvd.com
X-WR-CALDESC:Events for YAMIT AND THE VINYL BLVD
REFRESH-INTERVAL;VALUE=DURATION:PT1H
X-Robots-Tag:noindex
X-PUBLISHED-TTL:PT1H
BEGIN:VTIMEZONE
TZID:UTC
BEGIN:STANDARD
TZOFFSETFROM:+0000
TZOFFSETTO:+0000
TZNAME:UTC
DTSTART:20220101T000000
END:STANDARD
END:VTIMEZONE
BEGIN:VEVENT
DTSTART;VALUE=DATE:20230401
DTEND;VALUE=DATE:20230403
DTSTAMP:20260421T083037
CREATED:20230401T174913Z
LAST-MODIFIED:20230401T174913Z
UID:3430-1680318000-1680404399@www.vinylblvd.com
SUMMARY:PRIVATE EVENT
DESCRIPTION:
URL:https://www.vinylblvd.com/event/private-event-141/
END:VEVENT
BEGIN:VEVENT
DTSTART;TZID=UTC:20230402T113000
DTEND;TZID=UTC:20230402T160000
DTSTAMP:20260421T083037
CREATED:20230401T165747Z
LAST-MODIFIED:20230401T165747Z
UID:3401-1680435000-1680451200@www.vinylblvd.com
SUMMARY:The Setai Hotel JAZZ BRUNCH
DESCRIPTION:VINYL BLVD QUARTET
URL:https://www.vinylblvd.com/event/the-setai-hotel-jazz-brunch-267/
LOCATION:The Setai Hotel\, 2001 Collins Avenue\, Miami Beach\, FL\, 33139\, United States
END:VEVENT
BEGIN:VEVENT
DTSTART;TZID=UTC:20230406T073000
DTEND;TZID=UTC:20230406T220000
DTSTAMP:20260421T083037
CREATED:20230401T174330Z
LAST-MODIFIED:20230401T174330Z
UID:3421-1680766200-1680818400@www.vinylblvd.com
SUMMARY:Soya & Pomodoro
DESCRIPTION:VINYL BLVD DUO
URL:https://www.vinylblvd.com/event/soya-pomodoro-240/
LOCATION:Soya & Pomodoro\, 120 NE 1st Street\, Miami\, FL\, 33132\, United States
END:VEVENT
BEGIN:VEVENT
DTSTART;TZID=UTC:20230407T183000
DTEND;TZID=UTC:20230407T220000
DTSTAMP:20260421T083037
CREATED:20230401T170406Z
LAST-MODIFIED:20230401T170406Z
UID:3412-1680892200-1680904800@www.vinylblvd.com
SUMMARY:The Boca Raton SUPPER CLUB MEMBER’S LOUNGE
DESCRIPTION:VINYL BLVD DUO
URL:https://www.vinylblvd.com/event/the-boca-raton-supper-club-members-lounge-45/
LOCATION:The Boca Raton\, 501 E Camino Real\, Boca Raton\, 33432\, United States
END:VEVENT
BEGIN:VEVENT
DTSTART;VALUE=DATE:20230408
DTEND;VALUE=DATE:20230410
DTSTAMP:20260421T083037
CREATED:20230416T115935Z
LAST-MODIFIED:20230416T115935Z
UID:3439-1680922800-1681009199@www.vinylblvd.com
SUMMARY:PRIVATE EVENT
DESCRIPTION:
URL:https://www.vinylblvd.com/event/private-event-142/
END:VEVENT
BEGIN:VEVENT
DTSTART;TZID=UTC:20230409T113000
DTEND;TZID=UTC:20230409T160000
DTSTAMP:20260421T083037
CREATED:20230401T165848Z
LAST-MODIFIED:20230401T165848Z
UID:3403-1681039800-1681056000@www.vinylblvd.com
SUMMARY:The Setai Hotel EASTER JAZZ BRUNCH
DESCRIPTION:VINYL BLVD QUARTET
URL:https://www.vinylblvd.com/event/the-setai-hotel-easter-jazz-brunch-3/
LOCATION:The Setai Hotel\, 2001 Collins Avenue\, Miami Beach\, FL\, 33139\, United States
END:VEVENT
BEGIN:VEVENT
DTSTART;TZID=UTC:20230414T183000
DTEND;TZID=UTC:20230414T220000
DTSTAMP:20260421T083037
CREATED:20230401T170453Z
LAST-MODIFIED:20230401T170453Z
UID:3414-1681497000-1681509600@www.vinylblvd.com
SUMMARY:The Boca Raton SUPPER CLUB MEMBER’S LOUNGE
DESCRIPTION:VINYL BLVD DUO
URL:https://www.vinylblvd.com/event/the-boca-raton-supper-club-members-lounge-46/
LOCATION:The Boca Raton\, 501 E Camino Real\, Boca Raton\, 33432\, United States
END:VEVENT
BEGIN:VEVENT
DTSTART;TZID=UTC:20230415T183000
DTEND;TZID=UTC:20230415T220000
DTSTAMP:20260421T083037
CREATED:20230401T170644Z
LAST-MODIFIED:20230401T170644Z
UID:3418-1681583400-1681596000@www.vinylblvd.com
SUMMARY:The Boca Raton SUPPER CLUB MEMBER’S LOUNGE
DESCRIPTION:VINYL BLVD QUARTET
URL:https://www.vinylblvd.com/event/the-boca-raton-supper-club-members-lounge-48/
LOCATION:The Boca Raton\, 501 E Camino Real\, Boca Raton\, 33432\, United States
END:VEVENT
BEGIN:VEVENT
DTSTART;TZID=UTC:20230416T113000
DTEND;TZID=UTC:20230416T160000
DTSTAMP:20260421T083037
CREATED:20230401T165928Z
LAST-MODIFIED:20230401T165928Z
UID:3405-1681644600-1681660800@www.vinylblvd.com
SUMMARY:The Setai Hotel JAZZ BRUNCH
DESCRIPTION:VINYL BLVD QUARTET
URL:https://www.vinylblvd.com/event/the-setai-hotel-jazz-brunch-268/
LOCATION:The Setai Hotel\, 2001 Collins Avenue\, Miami Beach\, FL\, 33139\, United States
END:VEVENT
BEGIN:VEVENT
DTSTART;TZID=UTC:20230416T180000
DTEND;TZID=UTC:20230416T210000
DTSTAMP:20260421T083037
CREATED:20230416T115625Z
LAST-MODIFIED:20230416T115836Z
UID:3433-1681668000-1681678800@www.vinylblvd.com
SUMMARY:The Goodtime Hotel WHISKEY WIND DOWN at the Library
DESCRIPTION:VINYL BLVD QUARTET
URL:https://www.vinylblvd.com/event/whiskey-wind-down-at-the-goodtime-hotel-library/
LOCATION:The Goodtime Hotel\, 601 Washington Avenue\, Miami Beach\, FL\, 33139\, United States
END:VEVENT
BEGIN:VEVENT
DTSTART;TZID=UTC:20230420T193000
DTEND;TZID=UTC:20230420T220000
DTSTAMP:20260421T083037
CREATED:20230401T174422Z
LAST-MODIFIED:20230401T174422Z
UID:3423-1682019000-1682028000@www.vinylblvd.com
SUMMARY:Soya & Pomodoro
DESCRIPTION:VINYL BLVD DUO
URL:https://www.vinylblvd.com/event/soya-pomodoro-241/
LOCATION:Soya & Pomodoro\, 120 NE 1st Street\, Miami\, FL\, 33132\, United States
END:VEVENT
BEGIN:VEVENT
DTSTART;TZID=UTC:20230421T183000
DTEND;TZID=UTC:20230421T220000
DTSTAMP:20260421T083037
CREATED:20230401T170542Z
LAST-MODIFIED:20230401T170542Z
UID:3416-1682101800-1682114400@www.vinylblvd.com
SUMMARY:The Boca Raton SUPPER CLUB MEMBER’S LOUNGE
DESCRIPTION:VINYL BLVD DUO
URL:https://www.vinylblvd.com/event/the-boca-raton-supper-club-members-lounge-47/
LOCATION:The Boca Raton\, 501 E Camino Real\, Boca Raton\, 33432\, United States
END:VEVENT
BEGIN:VEVENT
DTSTART;TZID=UTC:20230423T113000
DTEND;TZID=UTC:20230423T160000
DTSTAMP:20260421T083037
CREATED:20230401T170034Z
LAST-MODIFIED:20230401T170034Z
UID:3407-1682249400-1682265600@www.vinylblvd.com
SUMMARY:The Setai Hotel JAZZ BRUNCH
DESCRIPTION:VINYL BLVD QUARTET
URL:https://www.vinylblvd.com/event/the-setai-hotel-jazz-brunch-269/
LOCATION:The Setai Hotel\, 2001 Collins Avenue\, Miami Beach\, FL\, 33139\, United States
END:VEVENT
BEGIN:VEVENT
DTSTART;TZID=UTC:20230423T193000
DTEND;TZID=UTC:20230423T223000
DTSTAMP:20260421T083037
CREATED:20230418T134555Z
LAST-MODIFIED:20230418T134555Z
UID:3445-1682278200-1682289000@www.vinylblvd.com
SUMMARY:The Goodtime Hotel WHISKEY WIND DOWN at the Library
DESCRIPTION:VINYL BLVD QUARTET
URL:https://www.vinylblvd.com/event/the-goodtime-hotel-whiskey-wind-down-at-the-library/
LOCATION:The Goodtime Hotel\, 601 Washington Avenue\, Miami Beach\, FL\, 33139\, United States
END:VEVENT
BEGIN:VEVENT
DTSTART;VALUE=DATE:20230426
DTEND;VALUE=DATE:20230428
DTSTAMP:20260421T083037
CREATED:20230416T120031Z
LAST-MODIFIED:20230416T120031Z
UID:3441-1682478000-1682564399@www.vinylblvd.com
SUMMARY:PRIVATE EVENT
DESCRIPTION:
URL:https://www.vinylblvd.com/event/private-event-143/
END:VEVENT
BEGIN:VEVENT
DTSTART;VALUE=DATE:20230427
DTEND;VALUE=DATE:20230429
DTSTAMP:20260421T083037
CREATED:20230401T174832Z
LAST-MODIFIED:20230401T174832Z
UID:3428-1682564400-1682650799@www.vinylblvd.com
SUMMARY:PRIVATE EVENT
DESCRIPTION:
URL:https://www.vinylblvd.com/event/private-event-140/
END:VEVENT
BEGIN:VEVENT
DTSTART;TZID=UTC:20230429T193000
DTEND;TZID=UTC:20230429T223000
DTSTAMP:20260421T083037
CREATED:20230401T174748Z
LAST-MODIFIED:20230401T174748Z
UID:3426-1682796600-1682807400@www.vinylblvd.com
SUMMARY:Books and Books
DESCRIPTION:VINYL BLVD TRIO
URL:https://www.vinylblvd.com/event/books-and-books-4/
LOCATION:Books and Books\, 265 Aragon Ave\, Miami\, FL\, 33134\, United States
END:VEVENT
BEGIN:VEVENT
DTSTART;TZID=UTC:20230430T113000
DTEND;TZID=UTC:20230430T160000
DTSTAMP:20260421T083037
CREATED:20230401T170250Z
LAST-MODIFIED:20230401T170250Z
UID:3410-1682854200-1682870400@www.vinylblvd.com
SUMMARY:The Setai Hotel JAZZ BRUNCH
DESCRIPTION:VINYL BLVD QUARTET
URL:https://www.vinylblvd.com/event/the-setai-hotel-jazz-brunch-270/
LOCATION:The Setai Hotel\, 2001 Collins Avenue\, Miami Beach\, FL\, 33139\, United States
END:VEVENT
BEGIN:VEVENT
DTSTART;TZID=UTC:20230430T193000
DTEND;TZID=UTC:20230430T223000
DTSTAMP:20260421T083037
CREATED:20230418T134648Z
LAST-MODIFIED:20230418T134648Z
UID:3447-1682883000-1682893800@www.vinylblvd.com
SUMMARY:The Goodtime Hotel WHISKEY WIND DOWN at the Library
DESCRIPTION:VINYL BLVD QUARTET
URL:https://www.vinylblvd.com/event/the-goodtime-hotel-whiskey-wind-down-at-the-library-2/
LOCATION:The Goodtime Hotel\, 601 Washington Avenue\, Miami Beach\, FL\, 33139\, United States
END:VEVENT
END:VCALENDAR