BEGIN:VCALENDAR
VERSION:2.0
PRODID:-//YAMIT AND THE VINYL BLVD - ECPv6.15.17//NONSGML v1.0//EN
CALSCALE:GREGORIAN
METHOD:PUBLISH
X-ORIGINAL-URL:https://www.vinylblvd.com
X-WR-CALDESC:Events for YAMIT AND THE VINYL BLVD
REFRESH-INTERVAL;VALUE=DURATION:PT1H
X-Robots-Tag:noindex
X-PUBLISHED-TTL:PT1H
BEGIN:VTIMEZONE
TZID:UTC
BEGIN:STANDARD
TZOFFSETFROM:+0000
TZOFFSETTO:+0000
TZNAME:UTC
DTSTART:20220101T000000
END:STANDARD
END:VTIMEZONE
BEGIN:VEVENT
DTSTART;TZID=UTC:20230601T193000
DTEND;TZID=UTC:20230601T220000
DTSTAMP:20260421T122553
CREATED:20230518T013025Z
LAST-MODIFIED:20230518T013025Z
UID:3507-1685647800-1685656800@www.vinylblvd.com
SUMMARY:Soya & Pomodoro
DESCRIPTION:VINYL BLVD DUO
URL:https://www.vinylblvd.com/event/soya-pomodoro-244/
LOCATION:Soya & Pomodoro\, 120 NE 1st Street\, Miami\, FL\, 33132\, United States
END:VEVENT
BEGIN:VEVENT
DTSTART;VALUE=DATE:20230602
DTEND;VALUE=DATE:20230604
DTSTAMP:20260421T122553
CREATED:20230518T011328Z
LAST-MODIFIED:20230518T011328Z
UID:3488-1685674800-1685761199@www.vinylblvd.com
SUMMARY:PRIVATE EVENT
DESCRIPTION:
URL:https://www.vinylblvd.com/event/private-event-147/
END:VEVENT
BEGIN:VEVENT
DTSTART;TZID=UTC:20230604T113000
DTEND;TZID=UTC:20230604T160000
DTSTAMP:20260421T122553
CREATED:20230518T011629Z
LAST-MODIFIED:20230518T011629Z
UID:3491-1685878200-1685894400@www.vinylblvd.com
SUMMARY:The Setai Hotel JAZZ BRUNCH
DESCRIPTION:VINYL BLVD QUARTET
URL:https://www.vinylblvd.com/event/the-setai-hotel-jazz-brunch-274/
LOCATION:The Setai Hotel\, 2001 Collins Avenue\, Miami Beach\, FL\, 33139\, United States
END:VEVENT
BEGIN:VEVENT
DTSTART;TZID=UTC:20230604T193000
DTEND;TZID=UTC:20230604T223000
DTSTAMP:20260421T122553
CREATED:20230518T012334Z
LAST-MODIFIED:20230518T012334Z
UID:3499-1685907000-1685917800@www.vinylblvd.com
SUMMARY:The Goodtime Hotel WHISKEY WIND DOWN at the Library
DESCRIPTION:VINYL BLVD QUARTET
URL:https://www.vinylblvd.com/event/the-goodtime-hotel-whiskey-wind-down-at-the-library-7/
LOCATION:The Goodtime Hotel\, 601 Washington Avenue\, Miami Beach\, FL\, 33139\, United States
END:VEVENT
BEGIN:VEVENT
DTSTART;VALUE=DATE:20230606
DTEND;VALUE=DATE:20230608
DTSTAMP:20260421T122553
CREATED:20230518T152704Z
LAST-MODIFIED:20230518T152744Z
UID:3516-1686020400-1686106799@www.vinylblvd.com
SUMMARY:PRIVATE EVENT
DESCRIPTION:
URL:https://www.vinylblvd.com/event/private-event-149/
END:VEVENT
BEGIN:VEVENT
DTSTART;VALUE=DATE:20230610
DTEND;VALUE=DATE:20230612
DTSTAMP:20260421T122553
CREATED:20230614T004835Z
LAST-MODIFIED:20230614T004835Z
UID:3545-1686366000-1686452399@www.vinylblvd.com
SUMMARY:PRIVATE EVENT
DESCRIPTION:
URL:https://www.vinylblvd.com/event/private-event-150/
END:VEVENT
BEGIN:VEVENT
DTSTART;TZID=UTC:20230611T113000
DTEND;TZID=UTC:20230611T160000
DTSTAMP:20260421T122553
CREATED:20230518T011805Z
LAST-MODIFIED:20230518T011805Z
UID:3493-1686483000-1686499200@www.vinylblvd.com
SUMMARY:The Setai Hotel JAZZ BRUNCH
DESCRIPTION:VINYL BLVD QUARTET
URL:https://www.vinylblvd.com/event/the-setai-hotel-jazz-brunch-275/
LOCATION:The Setai Hotel\, 2001 Collins Avenue\, Miami Beach\, FL\, 33139\, United States
END:VEVENT
BEGIN:VEVENT
DTSTART;TZID=UTC:20230611T193000
DTEND;TZID=UTC:20230611T223000
DTSTAMP:20260421T122553
CREATED:20230518T012450Z
LAST-MODIFIED:20230518T012450Z
UID:3501-1686511800-1686522600@www.vinylblvd.com
SUMMARY:The Goodtime Hotel WHISKEY WIND DOWN at the Library
DESCRIPTION:VINYL BLVD QUARTET
URL:https://www.vinylblvd.com/event/the-goodtime-hotel-whiskey-wind-down-at-the-library-8/
LOCATION:The Goodtime Hotel\, 601 Washington Avenue\, Miami Beach\, FL\, 33139\, United States
END:VEVENT
BEGIN:VEVENT
DTSTART;TZID=UTC:20230615T193000
DTEND;TZID=UTC:20230615T220000
DTSTAMP:20260421T122553
CREATED:20230518T013123Z
LAST-MODIFIED:20230518T013123Z
UID:3509-1686857400-1686866400@www.vinylblvd.com
SUMMARY:Soya & Pomodoro
DESCRIPTION:VINYL BLVD DUO
URL:https://www.vinylblvd.com/event/soya-pomodoro-245/
LOCATION:Soya & Pomodoro\, 120 NE 1st Street\, Miami\, FL\, 33132\, United States
END:VEVENT
BEGIN:VEVENT
DTSTART;TZID=UTC:20230618T113000
DTEND;TZID=UTC:20230618T160000
DTSTAMP:20260421T122553
CREATED:20230518T011900Z
LAST-MODIFIED:20230518T011900Z
UID:3495-1687087800-1687104000@www.vinylblvd.com
SUMMARY:The Setai Hotel JAZZ FATHER'S DAY BRUNCH
DESCRIPTION:VINYL BLVD QUINTET
URL:https://www.vinylblvd.com/event/the-setai-hotel-jazz-fathers-day-brunch/
LOCATION:The Setai Hotel\, 2001 Collins Avenue\, Miami Beach\, FL\, 33139\, United States
END:VEVENT
BEGIN:VEVENT
DTSTART;TZID=UTC:20230618T193000
DTEND;TZID=UTC:20230618T223000
DTSTAMP:20260421T122553
CREATED:20230518T012543Z
LAST-MODIFIED:20230518T012543Z
UID:3503-1687116600-1687127400@www.vinylblvd.com
SUMMARY:The Goodtime Hotel WHISKEY WIND DOWN at the Library
DESCRIPTION:VINYL BLVD QUARTET
URL:https://www.vinylblvd.com/event/the-goodtime-hotel-whiskey-wind-down-at-the-library-9/
LOCATION:The Goodtime Hotel\, 601 Washington Avenue\, Miami Beach\, FL\, 33139\, United States
END:VEVENT
BEGIN:VEVENT
DTSTART;TZID=UTC:20230625T113000
DTEND;TZID=UTC:20230625T160000
DTSTAMP:20260421T122553
CREATED:20230518T011944Z
LAST-MODIFIED:20230518T011944Z
UID:3497-1687692600-1687708800@www.vinylblvd.com
SUMMARY:The Setai Hotel JAZZ BRUNCH
DESCRIPTION:VINYL BLVD QUARTET
URL:https://www.vinylblvd.com/event/the-setai-hotel-jazz-brunch-276/
LOCATION:The Setai Hotel\, 2001 Collins Avenue\, Miami Beach\, FL\, 33139\, United States
END:VEVENT
BEGIN:VEVENT
DTSTART;TZID=UTC:20230629T193000
DTEND;TZID=UTC:20230629T223000
DTSTAMP:20260421T122553
CREATED:20230518T012843Z
LAST-MODIFIED:20230614T000610Z
UID:3505-1688067000-1688077800@www.vinylblvd.com
SUMMARY:The Goodtime Hotel WHISKEY WIND DOWN at the Library
DESCRIPTION:VINYL BLVD QUARTET
URL:https://www.vinylblvd.com/event/the-goodtime-hotel-whiskey-wind-down-at-the-library-10/
LOCATION:The Goodtime Hotel\, 601 Washington Avenue\, Miami Beach\, FL\, 33139\, United States
END:VEVENT
END:VCALENDAR