BEGIN:VCALENDAR
VERSION:2.0
PRODID:-//YAMIT AND THE VINYL BLVD - ECPv6.15.17//NONSGML v1.0//EN
CALSCALE:GREGORIAN
METHOD:PUBLISH
X-ORIGINAL-URL:https://www.vinylblvd.com
X-WR-CALDESC:Events for YAMIT AND THE VINYL BLVD
REFRESH-INTERVAL;VALUE=DURATION:PT1H
X-Robots-Tag:noindex
X-PUBLISHED-TTL:PT1H
BEGIN:VTIMEZONE
TZID:UTC
BEGIN:STANDARD
TZOFFSETFROM:+0000
TZOFFSETTO:+0000
TZNAME:UTC
DTSTART:20220101T000000
END:STANDARD
END:VTIMEZONE
BEGIN:VEVENT
DTSTART;TZID=UTC:20230820T113000
DTEND;TZID=UTC:20230820T160000
DTSTAMP:20260421T153930
CREATED:20230725T024319Z
LAST-MODIFIED:20230725T024319Z
UID:3556-1692531000-1692547200@www.vinylblvd.com
SUMMARY:The Setai Hotel JAZZ BRUNCH
DESCRIPTION:VINYL BLVD QUARTET
URL:https://www.vinylblvd.com/event/the-setai-hotel-jazz-brunch-280/
LOCATION:The Setai Hotel\, 2001 Collins Avenue\, Miami Beach\, FL\, 33139\, United States
END:VEVENT
BEGIN:VEVENT
DTSTART;TZID=UTC:20230824T193000
DTEND;TZID=UTC:20230824T223000
DTSTAMP:20260421T153930
CREATED:20230725T023946Z
LAST-MODIFIED:20230725T023946Z
UID:3552-1692905400-1692916200@www.vinylblvd.com
SUMMARY:The Goodtime Hotel WHISKEY JAZZ NIGHT at the Library
DESCRIPTION:VINYL BLVD QUARTET
URL:https://www.vinylblvd.com/event/the-goodtime-hotel-whiskey-jazz-night-at-the-library-5/
LOCATION:The Goodtime Hotel\, 601 Washington Avenue\, Miami Beach\, FL\, 33139\, United States
END:VEVENT
BEGIN:VEVENT
DTSTART;VALUE=DATE:20230825
DTEND;VALUE=DATE:20230827
DTSTAMP:20260421T153930
CREATED:20230829T010626Z
LAST-MODIFIED:20230829T010626Z
UID:3581-1692932400-1693018799@www.vinylblvd.com
SUMMARY:PRIVATE EVENT
DESCRIPTION:
URL:https://www.vinylblvd.com/event/private-event-155/
END:VEVENT
BEGIN:VEVENT
DTSTART;TZID=UTC:20230826T193000
DTEND;TZID=UTC:20230826T220000
DTSTAMP:20260421T153930
CREATED:20230725T024737Z
LAST-MODIFIED:20230725T024737Z
UID:3568-1693078200-1693087200@www.vinylblvd.com
SUMMARY:Soya & Pomodoro
DESCRIPTION:VINYL BLVD DUO
URL:https://www.vinylblvd.com/event/soya-pomodoro-247/
LOCATION:Soya & Pomodoro\, 120 NE 1st Street\, Miami\, FL\, 33132\, United States
END:VEVENT
BEGIN:VEVENT
DTSTART;TZID=UTC:20230827T113000
DTEND;TZID=UTC:20230827T160000
DTSTAMP:20260421T153930
CREATED:20230725T024416Z
LAST-MODIFIED:20230725T024416Z
UID:3558-1693135800-1693152000@www.vinylblvd.com
SUMMARY:The Setai Hotel JAZZ BRUNCH
DESCRIPTION:VINYL BLVD QUARTET
URL:https://www.vinylblvd.com/event/the-setai-hotel-jazz-brunch-283/
LOCATION:The Setai Hotel\, 2001 Collins Avenue\, Miami Beach\, FL\, 33139\, United States
END:VEVENT
BEGIN:VEVENT
DTSTART;TZID=UTC:20230831T193000
DTEND;TZID=UTC:20230831T223000
DTSTAMP:20260421T153930
CREATED:20230725T024058Z
LAST-MODIFIED:20230725T024058Z
UID:3554-1693510200-1693521000@www.vinylblvd.com
SUMMARY:The Goodtime Hotel WHISKEY JAZZ NIGHT at the Library
DESCRIPTION:VINYL BLVD QUARTET
URL:https://www.vinylblvd.com/event/the-goodtime-hotel-whiskey-jazz-night-at-the-library-6/
LOCATION:The Goodtime Hotel\, 601 Washington Avenue\, Miami Beach\, FL\, 33139\, United States
END:VEVENT
END:VCALENDAR